BEGIN:VCALENDAR
VERSION:2.0
PRODID:-//New Frontiers School Board - ECPv6.15.20//NONSGML v1.0//EN
CALSCALE:GREGORIAN
METHOD:PUBLISH
X-ORIGINAL-URL:https://www.nfsb.qc.ca
X-WR-CALDESC:Events for New Frontiers School Board
REFRESH-INTERVAL;VALUE=DURATION:PT1H
X-Robots-Tag:noindex
X-PUBLISHED-TTL:PT1H
BEGIN:VTIMEZONE
TZID:America/Toronto
BEGIN:DAYLIGHT
TZOFFSETFROM:-0500
TZOFFSETTO:-0400
TZNAME:EDT
DTSTART:20200308T070000
END:DAYLIGHT
BEGIN:STANDARD
TZOFFSETFROM:-0400
TZOFFSETTO:-0500
TZNAME:EST
DTSTART:20201101T060000
END:STANDARD
BEGIN:DAYLIGHT
TZOFFSETFROM:-0500
TZOFFSETTO:-0400
TZNAME:EDT
DTSTART:20210314T070000
END:DAYLIGHT
BEGIN:STANDARD
TZOFFSETFROM:-0400
TZOFFSETTO:-0500
TZNAME:EST
DTSTART:20211107T060000
END:STANDARD
BEGIN:DAYLIGHT
TZOFFSETFROM:-0500
TZOFFSETTO:-0400
TZNAME:EDT
DTSTART:20220313T070000
END:DAYLIGHT
BEGIN:STANDARD
TZOFFSETFROM:-0400
TZOFFSETTO:-0500
TZNAME:EST
DTSTART:20221106T060000
END:STANDARD
BEGIN:DAYLIGHT
TZOFFSETFROM:-0500
TZOFFSETTO:-0400
TZNAME:EDT
DTSTART:20230312T070000
END:DAYLIGHT
BEGIN:STANDARD
TZOFFSETFROM:-0400
TZOFFSETTO:-0500
TZNAME:EST
DTSTART:20231105T060000
END:STANDARD
END:VTIMEZONE
BEGIN:VEVENT
DTSTART;VALUE=DATE:20220624
DTEND;VALUE=DATE:20220625
DTSTAMP:20260422T071024
CREATED:20201214T164326Z
LAST-MODIFIED:20210818T152758Z
UID:6992-1656028800-1656115199@www.nfsb.qc.ca
SUMMARY:Holiday - St. Jean Baptiste
DESCRIPTION:
URL:https://www.nfsb.qc.ca/event/holiday-st-jean-baptiste/
CATEGORIES:All Schools,Elementary,Holiday,Secondary
END:VEVENT
BEGIN:VEVENT
DTSTART;VALUE=DATE:20220523
DTEND;VALUE=DATE:20220524
DTSTAMP:20260422T071024
CREATED:20201214T164250Z
LAST-MODIFIED:20210818T152647Z
UID:6990-1653264000-1653350399@www.nfsb.qc.ca
SUMMARY:Holiday - Victoria Day
DESCRIPTION:
URL:https://www.nfsb.qc.ca/event/holiday-victoria-day/
CATEGORIES:All Schools,Elementary,English,Holiday,Secondary
END:VEVENT
BEGIN:VEVENT
DTSTART;VALUE=DATE:20220520
DTEND;VALUE=DATE:20220521
DTSTAMP:20260422T071024
CREATED:20201214T164214Z
LAST-MODIFIED:20210818T152923Z
UID:6988-1653004800-1653091199@www.nfsb.qc.ca
SUMMARY:Elementary - Ped Day (teachers' compensatory day)
DESCRIPTION:
URL:https://www.nfsb.qc.ca/event/elementary-ped-day-teachers-compensatory-day/
CATEGORIES:All Schools,Elementary,Elementary Ped Day
END:VEVENT
BEGIN:VEVENT
DTSTART;VALUE=DATE:20220415
DTEND;VALUE=DATE:20220416
DTSTAMP:20260422T071024
CREATED:20201214T164042Z
LAST-MODIFIED:20210818T153143Z
UID:6984-1649980800-1650067199@www.nfsb.qc.ca
SUMMARY:Holiday - Good Friday
DESCRIPTION:
URL:https://www.nfsb.qc.ca/event/holiday-easter/
CATEGORIES:All Schools,Elementary,Holiday,Secondary
END:VEVENT
BEGIN:VEVENT
DTSTART;VALUE=DATE:20220304
DTEND;VALUE=DATE:20220305
DTSTAMP:20260422T071024
CREATED:20210114T161641Z
LAST-MODIFIED:20210818T153316Z
UID:8654-1646352000-1646438399@www.nfsb.qc.ca
SUMMARY:Last Day of Spring Break
DESCRIPTION:
URL:https://www.nfsb.qc.ca/event/last-day-of-spring-break/
CATEGORIES:All Schools,Elementary,Secondary
END:VEVENT
BEGIN:VEVENT
DTSTART;VALUE=DATE:20220228
DTEND;VALUE=DATE:20220301
DTSTAMP:20260422T071024
CREATED:20201214T163901Z
LAST-MODIFIED:20210818T153226Z
UID:6980-1646006400-1646092799@www.nfsb.qc.ca
SUMMARY:First Day of Spring Break
DESCRIPTION:
URL:https://www.nfsb.qc.ca/event/spring-break/
CATEGORIES:All Schools,Elementary,Elementary Ped Day,Holiday,Secondary,Secondary Ped Day
END:VEVENT
BEGIN:VEVENT
DTSTART;VALUE=DATE:20220105
DTEND;VALUE=DATE:20220106
DTSTAMP:20260422T071024
CREATED:20201214T163640Z
LAST-MODIFIED:20210818T154431Z
UID:6974-1641340800-1641427199@www.nfsb.qc.ca
SUMMARY:Secondary - Ped Day
DESCRIPTION:
URL:https://www.nfsb.qc.ca/event/secondary-ped-day-2/
CATEGORIES:All Schools,Secondary,Secondary Ped Day
END:VEVENT
BEGIN:VEVENT
DTSTART;VALUE=DATE:20220105
DTEND;VALUE=DATE:20220106
DTSTAMP:20260422T071024
CREATED:20201214T163608Z
LAST-MODIFIED:20210818T160025Z
UID:6972-1641340800-1641427199@www.nfsb.qc.ca
SUMMARY:Elementary - Ped Day
DESCRIPTION:
URL:https://www.nfsb.qc.ca/event/elementary-ped-day-2/
CATEGORIES:All Schools,Elementary Ped Day
END:VEVENT
BEGIN:VEVENT
DTSTART;TZID=America/Toronto:20211221T080000
DTEND;TZID=America/Toronto:20211221T170000
DTSTAMP:20260422T071024
CREATED:20201118T134127Z
LAST-MODIFIED:20210818T154251Z
UID:6792-1640073600-1640106000@www.nfsb.qc.ca
SUMMARY:Last Day of Classes Before Holidays
DESCRIPTION:
URL:https://www.nfsb.qc.ca/event/last-day-of-classes-before-holidays/
CATEGORIES:All Schools,Elementary,Elementary Ped Day,Secondary,Secondary Ped Day
END:VEVENT
BEGIN:VEVENT
DTSTART;TZID=America/Toronto:20211124T190000
DTEND;TZID=America/Toronto:20211124T203000
DTSTAMP:20260422T071024
CREATED:20210916T134842Z
LAST-MODIFIED:20230301T161849Z
UID:9981-1637780400-1637785800@www.nfsb.qc.ca
SUMMARY:Special Needs Advisory Committee (SNAC)
DESCRIPTION:[learn_press_profile]
URL:https://www.nfsb.qc.ca/event/special-needs-advisory-committee-snac/
CATEGORIES:All Schools,SNAC
END:VEVENT
END:VCALENDAR