BEGIN:VCALENDAR
VERSION:2.0
PRODID:-//New Frontiers School Board - ECPv6.15.20//NONSGML v1.0//EN
CALSCALE:GREGORIAN
METHOD:PUBLISH
X-WR-CALNAME:New Frontiers School Board
X-ORIGINAL-URL:https://www.nfsb.qc.ca
X-WR-CALDESC:Events for New Frontiers School Board
REFRESH-INTERVAL;VALUE=DURATION:PT1H
X-Robots-Tag:noindex
X-PUBLISHED-TTL:PT1H
BEGIN:VTIMEZONE
TZID:America/Toronto
BEGIN:DAYLIGHT
TZOFFSETFROM:-0500
TZOFFSETTO:-0400
TZNAME:EDT
DTSTART:20210314T070000
END:DAYLIGHT
BEGIN:STANDARD
TZOFFSETFROM:-0400
TZOFFSETTO:-0500
TZNAME:EST
DTSTART:20211107T060000
END:STANDARD
BEGIN:DAYLIGHT
TZOFFSETFROM:-0500
TZOFFSETTO:-0400
TZNAME:EDT
DTSTART:20220313T070000
END:DAYLIGHT
BEGIN:STANDARD
TZOFFSETFROM:-0400
TZOFFSETTO:-0500
TZNAME:EST
DTSTART:20221106T060000
END:STANDARD
BEGIN:DAYLIGHT
TZOFFSETFROM:-0500
TZOFFSETTO:-0400
TZNAME:EDT
DTSTART:20230312T070000
END:DAYLIGHT
BEGIN:STANDARD
TZOFFSETFROM:-0400
TZOFFSETTO:-0500
TZNAME:EST
DTSTART:20231105T060000
END:STANDARD
END:VTIMEZONE
BEGIN:VEVENT
DTSTART;VALUE=DATE:20220415
DTEND;VALUE=DATE:20220416
DTSTAMP:20260422T082322
CREATED:20201214T164042Z
LAST-MODIFIED:20210818T175138Z
UID:8545-1649980800-1650067199@www.nfsb.qc.ca
SUMMARY:Congé du Vendredi saint
DESCRIPTION:
URL:https://www.nfsb.qc.ca/event/holiday-easter/
CATEGORIES:All Schools,Elementary,Francais,Holiday,Secondary
END:VEVENT
BEGIN:VEVENT
DTSTART;VALUE=DATE:20220404
DTEND;VALUE=DATE:20220405
DTSTAMP:20260422T082322
CREATED:20210818T180724Z
LAST-MODIFIED:20210818T180724Z
UID:9849-1649030400-1649030400@www.nfsb.qc.ca
SUMMARY:Secondaire  – Journée pédagogique —
DESCRIPTION:
URL:https://www.nfsb.qc.ca/event/secondaire-journee-pedagogique-3/
CATEGORIES:Francais,Secondary,Secondary Ped Day
END:VEVENT
BEGIN:VEVENT
DTSTART;VALUE=DATE:20220404
DTEND;VALUE=DATE:20220405
DTSTAMP:20260422T082322
CREATED:20210818T180638Z
LAST-MODIFIED:20210818T180638Z
UID:9847-1649030400-1649116799@www.nfsb.qc.ca
SUMMARY:Primaire-Journée pédagogique
DESCRIPTION:
URL:https://www.nfsb.qc.ca/event/primaire-journee-pedagogique/
CATEGORIES:Elementary,Elementary Ped Day,Francais
END:VEVENT
BEGIN:VEVENT
DTSTART;VALUE=DATE:20220404
DTEND;VALUE=DATE:20220405
DTSTAMP:20260422T082322
CREATED:20210818T174705Z
LAST-MODIFIED:20230301T163120Z
UID:9832-1649030400-1649030400@www.nfsb.qc.ca
SUMMARY:Secondary - Ped Day
DESCRIPTION:[learn_press_profile]
URL:https://www.nfsb.qc.ca/event/secondary-ped-day-10/
CATEGORIES:Secondary,Secondary Ped Day
END:VEVENT
BEGIN:VEVENT
DTSTART;VALUE=DATE:20220404
DTEND;VALUE=DATE:20220405
DTSTAMP:20260422T082322
CREATED:20210818T155726Z
LAST-MODIFIED:20230301T184829Z
UID:9813-1649030400-1649116799@www.nfsb.qc.ca
SUMMARY:Elementary - Ped Day
DESCRIPTION:[learn_press_profile]
URL:https://www.nfsb.qc.ca/event/elementary-ped-day-8/
CATEGORIES:Elementary,Elementary Ped Day
END:VEVENT
BEGIN:VEVENT
DTSTART;VALUE=DATE:20220304
DTEND;VALUE=DATE:20220305
DTSTAMP:20260422T082322
CREATED:20210818T192450Z
LAST-MODIFIED:20230301T160444Z
UID:9895-1646352000-1646438399@www.nfsb.qc.ca
SUMMARY:Dernier jour de la relâche
DESCRIPTION:[learn_press_profile]
URL:https://www.nfsb.qc.ca/event/dernier-jour-de-la-relache/
CATEGORIES:All Schools,Elementary,Francais,Secondary
END:VEVENT
BEGIN:VEVENT
DTSTART;VALUE=DATE:20220304
DTEND;VALUE=DATE:20220305
DTSTAMP:20260422T082322
CREATED:20210114T161641Z
LAST-MODIFIED:20210818T153316Z
UID:8654-1646352000-1646438399@www.nfsb.qc.ca
SUMMARY:Last Day of Spring Break
DESCRIPTION:
URL:https://www.nfsb.qc.ca/event/last-day-of-spring-break/
CATEGORIES:All Schools,Elementary,Secondary
END:VEVENT
BEGIN:VEVENT
DTSTART;VALUE=DATE:20220228
DTEND;VALUE=DATE:20220301
DTSTAMP:20260422T082322
CREATED:20201214T163901Z
LAST-MODIFIED:20210818T153226Z
UID:6980-1646006400-1646092799@www.nfsb.qc.ca
SUMMARY:First Day of Spring Break
DESCRIPTION:
URL:https://www.nfsb.qc.ca/event/spring-break/
CATEGORIES:All Schools,Elementary,Elementary Ped Day,Holiday,Secondary,Secondary Ped Day
END:VEVENT
BEGIN:VEVENT
DTSTART;VALUE=DATE:20220228
DTEND;VALUE=DATE:20220301
DTSTAMP:20260422T082322
CREATED:20201214T163901Z
LAST-MODIFIED:20210818T175321Z
UID:8557-1646006400-1646092799@www.nfsb.qc.ca
SUMMARY:Semaine de relâche
DESCRIPTION:
URL:https://www.nfsb.qc.ca/event/spring-break/
CATEGORIES:All Schools,Elementary,Elementary Ped Day,Francais,Holiday,Secondary,Secondary Ped Day
END:VEVENT
BEGIN:VEVENT
DTSTART;TZID=America/Toronto:20220211T080000
DTEND;TZID=America/Toronto:20220211T170000
DTSTAMP:20260422T082322
CREATED:20210818T180836Z
LAST-MODIFIED:20210818T180836Z
UID:9852-1644566400-1644598800@www.nfsb.qc.ca
SUMMARY:Primaire – Journée pédagogique
DESCRIPTION:
URL:https://www.nfsb.qc.ca/event/primaire-journee-pedagogique-2/
CATEGORIES:Elementary,Elementary Ped Day,Francais
END:VEVENT
BEGIN:VEVENT
DTSTART;TZID=America/Toronto:20220211T080000
DTEND;TZID=America/Toronto:20220211T170000
DTSTAMP:20260422T082322
CREATED:20210818T155659Z
LAST-MODIFIED:20210818T155659Z
UID:9811-1644566400-1644598800@www.nfsb.qc.ca
SUMMARY:Elementary - Ped Day
DESCRIPTION:
URL:https://www.nfsb.qc.ca/event/elementary-ped-day-7/
CATEGORIES:Elementary,Elementary Ped Day
END:VEVENT
BEGIN:VEVENT
DTSTART;VALUE=DATE:20220211
DTEND;VALUE=DATE:20220212
DTSTAMP:20260422T082322
CREATED:20210818T180920Z
LAST-MODIFIED:20210818T180920Z
UID:9854-1644537600-1644537600@www.nfsb.qc.ca
SUMMARY:Secondaire – Journée pédagogique
DESCRIPTION:
URL:https://www.nfsb.qc.ca/event/secondaire-journee-pedagogique-4/
CATEGORIES:Francais,Secondary,Secondary Ped Day
END:VEVENT
BEGIN:VEVENT
DTSTART;VALUE=DATE:20220211
DTEND;VALUE=DATE:20220212
DTSTAMP:20260422T082322
CREATED:20210818T174644Z
LAST-MODIFIED:20210818T174644Z
UID:9833-1644537600-1644537600@www.nfsb.qc.ca
SUMMARY:Secondary - Ped Day
DESCRIPTION:
URL:https://www.nfsb.qc.ca/event/secondary-ped-day-9/
CATEGORIES:Secondary,Secondary Ped Day
END:VEVENT
BEGIN:VEVENT
DTSTART;VALUE=DATE:20220207
DTEND;VALUE=DATE:20220208
DTSTAMP:20260422T082322
CREATED:20210818T181050Z
LAST-MODIFIED:20230301T162251Z
UID:9858-1644192000-1644278399@www.nfsb.qc.ca
SUMMARY:Primaire – Journée pédagogique
DESCRIPTION:[learn_press_profile]
URL:https://www.nfsb.qc.ca/event/primaire-journee-pedagogique-3/
CATEGORIES:Elementary,Elementary Ped Day,Francais
END:VEVENT
BEGIN:VEVENT
DTSTART;VALUE=DATE:20220207
DTEND;VALUE=DATE:20220208
DTSTAMP:20260422T082322
CREATED:20210818T181009Z
LAST-MODIFIED:20210818T181009Z
UID:9856-1644192000-1644278399@www.nfsb.qc.ca
SUMMARY:Secondaire – Journée pédagogique
DESCRIPTION:
URL:https://www.nfsb.qc.ca/event/secondaire-journee-pedagogique-5/
CATEGORIES:Francais,Secondary,Secondary Ped Day
END:VEVENT
BEGIN:VEVENT
DTSTART;VALUE=DATE:20220207
DTEND;VALUE=DATE:20220208
DTSTAMP:20260422T082322
CREATED:20210818T174559Z
LAST-MODIFIED:20210818T174559Z
UID:9828-1644192000-1644278399@www.nfsb.qc.ca
SUMMARY:Secondary - Ped Day
DESCRIPTION:
URL:https://www.nfsb.qc.ca/event/secondary-ped-day-7/
CATEGORIES:Secondary,Secondary Ped Day
END:VEVENT
BEGIN:VEVENT
DTSTART;VALUE=DATE:20220207
DTEND;VALUE=DATE:20220208
DTSTAMP:20260422T082322
CREATED:20210818T155632Z
LAST-MODIFIED:20210818T155632Z
UID:9809-1644192000-1644278399@www.nfsb.qc.ca
SUMMARY:Elementary - Ped Day
DESCRIPTION:
URL:https://www.nfsb.qc.ca/event/elementary-ped-day-6/
CATEGORIES:Elementary,Elementary Ped Day
END:VEVENT
BEGIN:VEVENT
DTSTART;TZID=America/Toronto:20220204T080000
DTEND;TZID=America/Toronto:20220204T120000
DTSTAMP:20260422T082322
CREATED:20201214T181305Z
LAST-MODIFIED:20230301T201923Z
UID:7008-1643961600-1643976000@www.nfsb.qc.ca
SUMMARY:Elementary - Ped Day and P/T Interviews
DESCRIPTION:[learn_press_profile]
URL:https://www.nfsb.qc.ca/event/elementary-parent-teacher-interviews-2/
CATEGORIES:Elementary
END:VEVENT
BEGIN:VEVENT
DTSTART;TZID=America/Toronto:20220204T080000
DTEND;TZID=America/Toronto:20220204T120000
DTSTAMP:20260422T082322
CREATED:20201214T181305Z
LAST-MODIFIED:20210818T175342Z
UID:8581-1643961600-1643976000@www.nfsb.qc.ca
SUMMARY:Primaire - Rencontre parent/enseignant
DESCRIPTION:
URL:https://www.nfsb.qc.ca/event/elementary-parent-teacher-interviews-2/
CATEGORIES:Elementary,Francais
END:VEVENT
BEGIN:VEVENT
DTSTART;VALUE=DATE:20220204
DTEND;VALUE=DATE:20220205
DTSTAMP:20260422T082322
CREATED:20210818T181128Z
LAST-MODIFIED:20210818T181128Z
UID:9860-1643932800-1643932800@www.nfsb.qc.ca
SUMMARY:Secondaire – Journée pédagogique
DESCRIPTION:
URL:https://www.nfsb.qc.ca/event/secondaire-journee-pedagogique-6/
CATEGORIES:Francais,Secondary,Secondary Ped Day
END:VEVENT
BEGIN:VEVENT
DTSTART;VALUE=DATE:20220204
DTEND;VALUE=DATE:20220205
DTSTAMP:20260422T082322
CREATED:20210818T174619Z
LAST-MODIFIED:20210818T174619Z
UID:9829-1643932800-1643932800@www.nfsb.qc.ca
SUMMARY:Secondary - Ped Day
DESCRIPTION:
URL:https://www.nfsb.qc.ca/event/secondary-ped-day-8/
CATEGORIES:Secondary,Secondary Ped Day
END:VEVENT
BEGIN:VEVENT
DTSTART;TZID=America/Toronto:20220203T150000
DTEND;TZID=America/Toronto:20220203T200000
DTSTAMP:20260422T082322
CREATED:20201214T181117Z
LAST-MODIFIED:20210818T153532Z
UID:7006-1643900400-1643918400@www.nfsb.qc.ca
SUMMARY:Elementary - Parent/Teacher Interviews
DESCRIPTION:
URL:https://www.nfsb.qc.ca/event/elementary-parent-teacher-interviews/
CATEGORIES:Elementary
END:VEVENT
BEGIN:VEVENT
DTSTART;VALUE=DATE:20220117
DTEND;VALUE=DATE:20220118
DTSTAMP:20260422T082322
CREATED:20210818T193012Z
LAST-MODIFIED:20230301T175425Z
UID:9899-1642377600-1642463999@www.nfsb.qc.ca
SUMMARY:Primaire – Journée pédagogique
DESCRIPTION:[learn_press_profile]
URL:https://www.nfsb.qc.ca/event/primaire-journee-pedagogique-8/
CATEGORIES:Elementary,Elementary Ped Day,Francais
END:VEVENT
BEGIN:VEVENT
DTSTART;VALUE=DATE:20220117
DTEND;VALUE=DATE:20220118
DTSTAMP:20260422T082322
CREATED:20210818T192919Z
LAST-MODIFIED:20230301T172110Z
UID:9897-1642377600-1642463999@www.nfsb.qc.ca
SUMMARY:Elementary - Ped Day
DESCRIPTION:[learn_press_profile]
URL:https://www.nfsb.qc.ca/event/elementary-ped-day-9/
CATEGORIES:Elementary,Elementary Ped Day
END:VEVENT
BEGIN:VEVENT
DTSTART;VALUE=DATE:20220117
DTEND;VALUE=DATE:20220118
DTSTAMP:20260422T082322
CREATED:20210818T181220Z
LAST-MODIFIED:20210818T181220Z
UID:9862-1642377600-1642463999@www.nfsb.qc.ca
SUMMARY:Secondaire – Journée pédagogique
DESCRIPTION:
URL:https://www.nfsb.qc.ca/event/secondaire-journee-pedagogique-7/
CATEGORIES:Francais,Secondary,Secondary Ped Day
END:VEVENT
BEGIN:VEVENT
DTSTART;VALUE=DATE:20220117
DTEND;VALUE=DATE:20220118
DTSTAMP:20260422T082322
CREATED:20210818T174536Z
LAST-MODIFIED:20210818T174536Z
UID:9826-1642377600-1642463999@www.nfsb.qc.ca
SUMMARY:Secondary - Ped Day
DESCRIPTION:
URL:https://www.nfsb.qc.ca/event/secondary-ped-day-6/
CATEGORIES:Secondary,Secondary Ped Day
END:VEVENT
BEGIN:VEVENT
DTSTART;VALUE=DATE:20220105
DTEND;VALUE=DATE:20220106
DTSTAMP:20260422T082322
CREATED:20201214T163640Z
LAST-MODIFIED:20210818T154431Z
UID:6974-1641340800-1641427199@www.nfsb.qc.ca
SUMMARY:Secondary - Ped Day
DESCRIPTION:
URL:https://www.nfsb.qc.ca/event/secondary-ped-day-2/
CATEGORIES:All Schools,Secondary,Secondary Ped Day
END:VEVENT
BEGIN:VEVENT
DTSTART;VALUE=DATE:20220105
DTEND;VALUE=DATE:20220106
DTSTAMP:20260422T082322
CREATED:20201214T163640Z
LAST-MODIFIED:20210818T192707Z
UID:8588-1641340800-1641427199@www.nfsb.qc.ca
SUMMARY:Secondaire - Journée pédagogique
DESCRIPTION:
URL:https://www.nfsb.qc.ca/event/secondary-ped-day-2/
CATEGORIES:All Schools,Francais,Secondary,Secondary Ped Day
END:VEVENT
BEGIN:VEVENT
DTSTART;VALUE=DATE:20220105
DTEND;VALUE=DATE:20220106
DTSTAMP:20260422T082322
CREATED:20201214T163608Z
LAST-MODIFIED:20210818T160025Z
UID:6972-1641340800-1641427199@www.nfsb.qc.ca
SUMMARY:Elementary - Ped Day
DESCRIPTION:
URL:https://www.nfsb.qc.ca/event/elementary-ped-day-2/
CATEGORIES:All Schools,Elementary Ped Day
END:VEVENT
BEGIN:VEVENT
DTSTART;VALUE=DATE:20220105
DTEND;VALUE=DATE:20220106
DTSTAMP:20260422T082322
CREATED:20201214T163608Z
LAST-MODIFIED:20210818T175438Z
UID:8589-1641340800-1641427199@www.nfsb.qc.ca
SUMMARY:Primaire - Journée pédagogique
DESCRIPTION:
URL:https://www.nfsb.qc.ca/event/elementary-ped-day-2/
CATEGORIES:All Schools,Elementary Ped Day,Francais
END:VEVENT
END:VCALENDAR